BEGIN:VCALENDAR
VERSION:2.0
PRODID:-//Tukios.com/
BEGIN:VEVENT
UID:b8efa333-a00d-4b7b-8d06-56ebedfb3464@www.lmpiercefuneralhome.com
DTSTAMP:20260420T090957Z
DTSTART:20260419T170000Z
DTEND:20260419T190000Z
SUMMARY:Funeral Service
DESCRIPTION:
URL:https://www.lmpiercefuneralhome.com/obituaries/mary-travet
LOCATION:Springfield Fellowship Church 2465 Main Street  Harrison GA 
	31035
GEO:32.8274883;-82.7214639
END:VEVENT
END:VCALENDAR